View In:
ArcGIS JavaScript
ArcGIS Online Map Viewer
ArcGIS Earth
Service Description: Land_Suitibility_2021
Name: Land_Suitibility_2021
Description:
Single Fused Map Cache: false
Extent:
XMin: 1222387.3391637213
YMin: 3742014.2904029894
XMax: 1968973.7724974074
YMax: 4191947.7737333416
Spatial Reference: 102633
(102633)
Initial Extent:
XMin: 1222387.3391637213
YMin: 3742014.2904029894
XMax: 1968973.7724974074
YMax: 4191947.7737333416
Spatial Reference: 102633
(102633)
Full Extent:
XMin: 1222387.3391637213
YMin: 3742014.2904029894
XMax: 1968973.7724974074
YMax: 4191947.7737333416
Spatial Reference: 102633
(102633)
Pixel Size X: 32.808333333348834
Pixel Size Y: 32.808333333115954
Band Count: 1
Pixel Type: S8
RasterFunction Infos: {"rasterFunctionInfos": [
{
"name": "Land_Suitibility_2021",
"description": "Land_Suitibility_2021",
"help": ""
},
{
"name": "None",
"description": "",
"help": ""
}
]}
Mensuration Capabilities: Basic
Inspection Capabilities:
Has Histograms: true
Has Colormap: false
Has Multi Dimensions : false
Rendering Rule:
Min Scale: 0
Max Scale: 0
Copyright Text:
Service Data Type: esriImageServiceDataTypeGeneric
Min Values: 0
Max Values: 8
Mean Values: 4.162661766430209
Standard Deviation Values: 3.0612833102342853
Object ID Field:
Fields:
None
Default Mosaic Method: Center
Allowed Mosaic Methods:
SortField:
SortValue: null
Mosaic Operator: First
Default Compression Quality: 75
Default Resampling Method: Bilinear
Max Record Count: null
Max Image Height: 4100
Max Image Width: 15000
Max Download Image Count: null
Max Mosaic Image Count: null
Allow Raster Function: true
Allow Copy: true
Allow Analysis: true
Allow Compute TiePoints: false
Supports Statistics: false
Supports Advanced Queries: false
Use StandardizedQueries: true
Raster Type Infos:
Name: Raster Dataset
Description: Supports all ArcGIS Raster Datasets
Help:
Has Raster Attribute Table: true
Edit Fields Info: null
Ownership Based AccessControl For Rasters: null
Child Resources:
Info
Raster Attribute Table
Histograms
Statistics
Key Properties
Legend
Raster Function Infos
Supported Operations:
Export Image
Identify
Measure
Compute Histograms
Compute Statistics Histograms
Get Samples
Compute Class Statistics
Query Boundary
Compute Pixel Location
Compute Angles
Validate
Project