{
 "currentVersion": 11.3,
 "serviceDescription": "Land_Suitibility_2021",
 "name": "Land_Suitibility_2021",
 "description": "",
 "extent": {
  "xmin": 1222387.3391637213,
  "ymin": 3742014.2904029894,
  "xmax": 1968973.7724974074,
  "ymax": 4191947.7737333416,
  "spatialReference": {
   "wkid": 102633,
   "latestWkid": 102633
  }
 },
 "initialExtent": {
  "xmin": 1222387.3391637213,
  "ymin": 3742014.2904029894,
  "xmax": 1968973.7724974074,
  "ymax": 4191947.7737333416,
  "spatialReference": {
   "wkid": 102633,
   "latestWkid": 102633
  }
 },
 "fullExtent": {
  "xmin": 1222387.3391637213,
  "ymin": 3742014.2904029894,
  "xmax": 1968973.7724974074,
  "ymax": 4191947.7737333416,
  "spatialReference": {
   "wkid": 102633,
   "latestWkid": 102633
  }
 },
 "sortableFields": "",
 "bandCount": 1,
 "pixelType": "S8",
 "minValues": [
  0
 ],
 "maxValues": [
  8
 ],
 "meanValues": [
  4.162661766430209
 ],
 "stdvValues": [
  3.0612833102342853
 ],
 "hasMultidimensions": false,
 "pixelSizeX": 32.808333333348834,
 "pixelSizeY": 32.808333333115954,
 "meanPixelSize": 9.999999999969235,
 "datasetFormat": "SDR",
 "uncompressedSize": 312075784,
 "blockWidth": 128,
 "blockHeight": 128,
 "compressionType": "LZ77",
 "bandNames": [
  "Band_1"
 ],
 "allowCopy": true,
 "allowAnalysis": true,
 "itemAccess": false,
 "inspectionCapabilities": "",
 "minPixelSize": 0,
 "maxPixelSize": 0,
 "copyrightText": "",
 "serviceDataType": "esriImageServiceDataTypeGeneric",
 "serviceSourceType": "esriImageServiceSourceTypeDataset",
 "objectIdField": "",
 "fields": [],
 "capabilities": "Image,Metadata,Mensuration",
 "defaultMosaicMethod": "Center",
 "allowedMosaicMethods": "",
 "sortField": "",
 "sortValue": null,
 "sortAscending": true,
 "mosaicOperator": "First",
 "defaultCompressionQuality": 75,
 "defaultResamplingMethod": "Bilinear",
 "maxImageHeight": 4100,
 "maxImageWidth": 15000,
 "allowRasterFunction": true,
 "rasterFunctionInfos": [
  {
   "name": "Land_Suitibility_2021",
   "description": "Land_Suitibility_2021",
   "help": ""
  },
  {
   "name": "None",
   "description": "",
   "help": ""
  }
 ],
 "rasterTypeInfos": [
  {
   "name": "Raster Dataset",
   "description": "Supports all ArcGIS Raster Datasets",
   "help": ""
  }
 ],
 "mensurationCapabilities": "Basic",
 "hasHistograms": true,
 "hasColormap": false,
 "hasRasterAttributeTable": true,
 "minScale": 0,
 "maxScale": 0,
 "exportTilesAllowed": false,
 "supportsStatistics": false,
 "supportsAdvancedQueries": false,
 "editFieldsInfo": null,
 "ownershipBasedAccessControlForRasters": null,
 "allowComputeTiePoints": false,
 "useStandardizedQueries": true,
 "advancedQueryCapabilities": {
  "useStandardizedQueries": true,
  "supportsStatistics": false,
  "supportsOrderBy": false,
  "supportsDistinct": false,
  "supportsPagination": false
 },
 "spatialReference": {
  "wkid": 102633,
  "latestWkid": 102633
 }
}
