View In:
ArcGIS JavaScript
ArcGIS Online Map Viewer
ArcGIS Earth
Service Description: The hydro-flattened and enforced bare earth digital elevation model (DEM) represents the earth's surface with all vegetation and human-made structures removed. It is derived from NIR LiDAR data using TIN processing of the ground point returns. All rivers greater than 30 meters in width and lakes at least 2 acres in size (and smaller as feasible) have been flattened to consistent elevations. Water boundary polygons were developed using an algorithm which weights LiDAR-derived slopes, intensities, and return densities to detect the water's edge. Elevation values were then assigned to the water's edge from the LiDAR data creating 3D breaklines enforced during model creation to flatten water bodies. Additionally, hydro-enforcement breaklines were created at all artificial obstructions to flow found in the ground model (i.e. culverts) to break the obstruction and allow flow to continue. Some elevation values have been interpolated across areas in the ground model where there is no elevation data (e.g. under dense vegetation). The horizontal datum for this dataset is NAD83 (CORS96), the vertical datum is NAVD88, Geoid 06, and the data is projected in Alaska State Plane Coordinate System Zone 3. Units are in U.S. Survey Feet. Quantum Spatial collected the Tanana River Floodplain Mapping LiDAR data for the Fairbanks North Star Borough on 04/30/2016.
Name: Elevation_2016_DEM_Salcha_Flood_Study
Description: The hydro-flattened and enforced bare earth digital elevation model (DEM) represents the earth's surface with all vegetation and human-made structures removed. It is derived from NIR LiDAR data using TIN processing of the ground point returns. All rivers greater than 30 meters in width and lakes at least 2 acres in size (and smaller as feasible) have been flattened to consistent elevations. Water boundary polygons were developed using an algorithm which weights LiDAR-derived slopes, intensities, and return densities to detect the water's edge. Elevation values were then assigned to the water's edge from the LiDAR data creating 3D breaklines enforced during model creation to flatten water bodies. Additionally, hydro-enforcement breaklines were created at all artificial obstructions to flow found in the ground model (i.e. culverts) to break the obstruction and allow flow to continue. Some elevation values have been interpolated across areas in the ground model where there is no elevation data (e.g. under dense vegetation). The horizontal datum for this dataset is NAD83 (CORS96), the vertical datum is NAVD88, Geoid 06, and the data is projected in Alaska State Plane Coordinate System Zone 3. Units are in U.S. Survey Feet. Quantum Spatial collected the Tanana River Floodplain Mapping LiDAR data for the Fairbanks North Star Borough on 04/30/2016.
Single Fused Map Cache: false
Extent:
XMin: 1424820.0001220703
YMin: 3861444.0001220726
XMax: 1475313.0001220703
YMax: 3920994.0001220726
Spatial Reference: 102633
(102633)
Initial Extent:
XMin: 1424820.0001220703
YMin: 3861444.0001220726
XMax: 1475313.0001220703
YMax: 3920994.0001220726
Spatial Reference: 102633
(102633)
Full Extent:
XMin: 1424820.0001220703
YMin: 3861444.0001220726
XMax: 1475313.0001220703
YMax: 3920994.0001220726
Spatial Reference: 102633
(102633)
Pixel Size X: 3.0
Pixel Size Y: 3.0
Band Count: 1
Pixel Type: F32
RasterFunction Infos: {"rasterFunctionInfos": [{
"name": "None",
"description": "Make a Raster or Raster Dataset into a Function Raster Dataset.",
"help": ""
}]}
Mensuration Capabilities: Basic
Inspection Capabilities:
Has Histograms: true
Has Colormap: false
Has Multi Dimensions : false
Rendering Rule:
Min Scale: 0
Max Scale: 0
Copyright Text: Fairbanks North Star Borough
Service Data Type: esriImageServiceDataTypeGeneric
Min Values: 500.32000732422
Max Values: 671.04998779297
Mean Values: 540.55250074374
Standard Deviation Values: 20.314208358971
Object ID Field:
Fields:
None
Default Mosaic Method: Center
Allowed Mosaic Methods:
SortField:
SortValue: null
Mosaic Operator: First
Default Compression Quality: 75
Default Resampling Method: Bilinear
Max Record Count: null
Max Image Height: 4100
Max Image Width: 15000
Max Download Image Count: null
Max Mosaic Image Count: null
Allow Raster Function: true
Allow Copy: true
Allow Analysis: true
Allow Compute TiePoints: false
Supports Statistics: false
Supports Advanced Queries: false
Use StandardizedQueries: true
Raster Type Infos:
Name: Raster Dataset
Description: Supports all ArcGIS Raster Datasets
Help:
Has Raster Attribute Table: false
Edit Fields Info: null
Ownership Based AccessControl For Rasters: null
Child Resources:
Info
Histograms
Statistics
Key Properties
Legend
Raster Function Infos
Supported Operations:
Export Image
Identify
Measure
Compute Histograms
Compute Statistics Histograms
Get Samples
Compute Class Statistics
Query Boundary
Compute Pixel Location
Compute Angles
Validate
Project