{ "currentVersion": 11.3, "serviceDescription": "
The hydro-flattened and enforced bare earth digital elevation model (DEM) represents the earth's surface with all vegetation and human-made structures removed. It is derived from NIR LiDAR data using TIN processing of the ground point returns. All rivers greater than 30 meters in width and lakes at least 2 acres in size (and smaller as feasible) have been flattened to consistent elevations. Water boundary polygons were developed using an algorithm which weights LiDAR-derived slopes, intensities, and return densities to detect the water's edge. Elevation values were then assigned to the water's edge from the LiDAR data creating 3D breaklines enforced during model creation to flatten water bodies. Additionally, hydro-enforcement breaklines were created at all artificial obstructions to flow found in the ground model (i.e. culverts) to break the obstruction and allow flow to continue. Some elevation values have been interpolated across areas in the ground model where there is no elevation data (e.g. under dense vegetation). The horizontal datum for this dataset is NAD83 (CORS96), the vertical datum is NAVD88, Geoid 06, and the data is projected in Alaska State Plane Coordinate System Zone 3. Units are in U.S. Survey Feet. Quantum Spatial collected the Tanana River Floodplain Mapping LiDAR data for the Fairbanks North Star Borough on 04/30/2016.<\/SPAN><\/P><\/DIV><\/DIV><\/DIV>",
"name": "Elevation_2016_DEM_Salcha_Flood_Study",
"description": " The hydro-flattened and enforced bare earth digital elevation model (DEM) represents the earth's surface with all vegetation and human-made structures removed. It is derived from NIR LiDAR data using TIN processing of the ground point returns. All rivers greater than 30 meters in width and lakes at least 2 acres in size (and smaller as feasible) have been flattened to consistent elevations. Water boundary polygons were developed using an algorithm which weights LiDAR-derived slopes, intensities, and return densities to detect the water's edge. Elevation values were then assigned to the water's edge from the LiDAR data creating 3D breaklines enforced during model creation to flatten water bodies. Additionally, hydro-enforcement breaklines were created at all artificial obstructions to flow found in the ground model (i.e. culverts) to break the obstruction and allow flow to continue. Some elevation values have been interpolated across areas in the ground model where there is no elevation data (e.g. under dense vegetation). The horizontal datum for this dataset is NAD83 (CORS96), the vertical datum is NAVD88, Geoid 06, and the data is projected in Alaska State Plane Coordinate System Zone 3. Units are in U.S. Survey Feet. Quantum Spatial collected the Tanana River Floodplain Mapping LiDAR data for the Fairbanks North Star Borough on 04/30/2016.<\/SPAN><\/P><\/DIV><\/DIV><\/DIV>",
"extent": {
"xmin": 1424820.0001220703,
"ymin": 3861444.0001220726,
"xmax": 1475313.0001220703,
"ymax": 3920994.0001220726,
"spatialReference": {
"wkid": 102633,
"latestWkid": 102633
}
},
"initialExtent": {
"xmin": 1424820.0001220703,
"ymin": 3861444.0001220726,
"xmax": 1475313.0001220703,
"ymax": 3920994.0001220726,
"spatialReference": {
"wkid": 102633,
"latestWkid": 102633
}
},
"fullExtent": {
"xmin": 1424820.0001220703,
"ymin": 3861444.0001220726,
"xmax": 1475313.0001220703,
"ymax": 3920994.0001220726,
"spatialReference": {
"wkid": 102633,
"latestWkid": 102633
}
},
"sortableFields": "",
"bandCount": 1,
"pixelType": "F32",
"minValues": [
500.32000732422
],
"maxValues": [
671.04998779297
],
"meanValues": [
540.55250074374
],
"stdvValues": [
20.314208358971
],
"hasMultidimensions": false,
"pixelSizeX": 3,
"pixelSizeY": 3,
"meanPixelSize": 0.9144018288036577,
"datasetFormat": "IMAGINE Image",
"uncompressedSize": 1336381400,
"blockWidth": 64,
"blockHeight": 64,
"compressionType": "RLE",
"bandNames": [
"Layer_1"
],
"allowCopy": true,
"allowAnalysis": true,
"itemAccess": false,
"inspectionCapabilities": "",
"noDataValue": -3.4028234663852886E38,
"noDataValues": [
-3.4028234663852886E38
],
"minPixelSize": 0,
"maxPixelSize": 0,
"copyrightText": "Fairbanks North Star Borough",
"serviceDataType": "esriImageServiceDataTypeGeneric",
"serviceSourceType": "esriImageServiceSourceTypeDataset",
"objectIdField": "",
"fields": [],
"capabilities": "Image,Metadata,Mensuration",
"defaultMosaicMethod": "Center",
"allowedMosaicMethods": "",
"sortField": "",
"sortValue": null,
"sortAscending": true,
"mosaicOperator": "First",
"defaultCompressionQuality": 75,
"defaultResamplingMethod": "Bilinear",
"maxImageHeight": 4100,
"maxImageWidth": 15000,
"allowRasterFunction": true,
"rasterFunctionInfos": [
{
"name": "None",
"description": "Make a Raster or Raster Dataset into a Function Raster Dataset.",
"help": ""
}
],
"rasterTypeInfos": [
{
"name": "Raster Dataset",
"description": "Supports all ArcGIS Raster Datasets",
"help": ""
}
],
"mensurationCapabilities": "Basic",
"hasHistograms": true,
"hasColormap": false,
"hasRasterAttributeTable": false,
"minScale": 0,
"maxScale": 0,
"exportTilesAllowed": false,
"supportsStatistics": false,
"supportsAdvancedQueries": false,
"editFieldsInfo": null,
"ownershipBasedAccessControlForRasters": null,
"allowComputeTiePoints": false,
"useStandardizedQueries": true,
"advancedQueryCapabilities": {
"useStandardizedQueries": true,
"supportsStatistics": false,
"supportsOrderBy": false,
"supportsDistinct": false,
"supportsPagination": false
},
"spatialReference": {
"wkid": 102633,
"latestWkid": 102633
}
}