View In:
ArcGIS JavaScript
ArcGIS Online Map Viewer
ArcGIS Earth
Service Description: In advance of design, permitting, and construction of a pipeline to deliver North Slope natural gas to out-of-state customers and Alaska communities, the Division of Geological & Geophysical Surveys (DGGS) has acquired lidar (light detection and ranging) data along proposed pipeline routes, nearby areas of infrastructure, and regions where significant geologic hazards have been identified. Lidar data will serve multiple purposes, but have primarily been collected to (1) evaluate active faulting, slope instability, thaw settlement, erosion, and other engineering constraints along proposed pipeline routes, and (2) provide a base layer for the state-federal GIS database that will be used to evaluate permit applications and construction plans. Hillshade (shaded relief) images, produced from bare-earth DEMs provide a visual representation of topographic relief.
Name: Elevation_2011_DEM_Pipeline
Description: In advance of design, permitting, and construction of a pipeline to deliver North Slope natural gas to out-of-state customers and Alaska communities, the Division of Geological & Geophysical Surveys (DGGS) has acquired lidar (light detection and ranging) data along proposed pipeline routes, nearby areas of infrastructure, and regions where significant geologic hazards have been identified. Lidar data will serve multiple purposes, but have primarily been collected to (1) evaluate active faulting, slope instability, thaw settlement, erosion, and other engineering constraints along proposed pipeline routes, and (2) provide a base layer for the state-federal GIS database that will be used to evaluate permit applications and construction plans. Hillshade (shaded relief) images, produced from bare-earth DEMs provide a visual representation of topographic relief.
Single Fused Map Cache: false
Extent:
XMin: 1300765.0315324105
YMin: 3745368.4393942333
XMax: 1640232.8565324103
YMax: 4117231.2127275662
Spatial Reference: 102633
(102633)
Initial Extent:
XMin: 1300765.0315324105
YMin: 3745368.4393942333
XMax: 1640232.8565324103
YMax: 4117231.2127275662
Spatial Reference: 102633
(102633)
Full Extent:
XMin: 1300765.0315324105
YMin: 3745368.4393942333
XMax: 1640232.8565324103
YMax: 4117231.2127275662
Spatial Reference: 102633
(102633)
Pixel Size X: 3.2808333333333306
Pixel Size Y: 3.28083333333333
Band Count: 1
Pixel Type: F32
RasterFunction Infos: {"rasterFunctionInfos": [{
"name": "None",
"description": "",
"help": ""
}]}
Mensuration Capabilities: Basic
Inspection Capabilities:
Has Histograms: true
Has Colormap: false
Has Multi Dimensions : false
Rendering Rule:
Min Scale: 0
Max Scale: 0
Copyright Text: Data collection was supported by funding from the Department of Natural Resources (DNR), Division of Geological & Geophysical Surveys (DGGS), the Alaska Gas Pipeline Project Office, the Office of the Federal Coordinator, and the Alaska Gasline Development Corporation (AGDC). Lidar data were collected and processed by Watershed Sciences of Corvalis, Oregon. Survey data were collected by McClintock Land Associates of Eagle River, AK. Lidar data and derivative products were checked for quality, completeness, and accuracy by State of Oregon Department of Geology & Mineral Industries based in Portland, OR.
Service Data Type: esriImageServiceDataTypeGeneric
Min Values: 430.83471679688
Max Values: 2518.0874023438
Mean Values: 874.22481478287
Standard Deviation Values: 357.69334826318
Object ID Field:
Fields:
None
Default Mosaic Method: Center
Allowed Mosaic Methods:
SortField:
SortValue: null
Mosaic Operator: First
Default Compression Quality: 75
Default Resampling Method: Bilinear
Max Record Count: null
Max Image Height: 4100
Max Image Width: 15000
Max Download Image Count: null
Max Mosaic Image Count: null
Allow Raster Function: true
Allow Copy: true
Allow Analysis: true
Allow Compute TiePoints: false
Supports Statistics: false
Supports Advanced Queries: false
Use StandardizedQueries: true
Raster Type Infos:
Name: Raster Dataset
Description: Supports all ArcGIS Raster Datasets
Help:
Has Raster Attribute Table: false
Edit Fields Info: null
Ownership Based AccessControl For Rasters: null
Child Resources:
Info
Histograms
Statistics
Key Properties
Legend
Raster Function Infos
Supported Operations:
Export Image
Identify
Measure
Compute Histograms
Compute Statistics Histograms
Get Samples
Compute Class Statistics
Query Boundary
Compute Pixel Location
Compute Angles
Validate
Project