{
 "currentVersion": 11.3,
 "serviceDescription": "In advance of design, permitting, and construction of a pipeline to deliver North Slope natural gas to out-of-state customers and Alaska communities, the Division of Geological & Geophysical Surveys (DGGS) has acquired lidar (light detection and ranging) data along proposed pipeline routes, nearby areas of infrastructure, and regions where significant geologic hazards have been identified. Lidar data will serve multiple purposes, but have primarily been collected to (1) evaluate active faulting, slope instability, thaw settlement, erosion, and other engineering constraints along proposed pipeline routes, and (2) provide a base layer for the state-federal GIS database that will be used to evaluate permit applications and construction plans. Hillshade (shaded relief) images, produced from bare-earth DEMs provide a visual representation of topographic relief.",
 "name": "Elevation_2011_DEM_Pipeline",
 "description": "In advance of design, permitting, and construction of a pipeline to deliver North Slope natural gas to out-of-state customers and Alaska communities, the Division of Geological & Geophysical Surveys (DGGS) has acquired lidar (light detection and ranging) data along proposed pipeline routes, nearby areas of infrastructure, and regions where significant geologic hazards have been identified. Lidar data will serve multiple purposes, but have primarily been collected to (1) evaluate active faulting, slope instability, thaw settlement, erosion, and other engineering constraints along proposed pipeline routes, and (2) provide a base layer for the state-federal GIS database that will be used to evaluate permit applications and construction plans. Hillshade (shaded relief) images, produced from bare-earth DEMs provide a visual representation of topographic relief.",
 "extent": {
  "xmin": 1300765.0315324105,
  "ymin": 3745368.4393942333,
  "xmax": 1640232.8565324103,
  "ymax": 4117231.2127275662,
  "spatialReference": {
   "wkid": 102633,
   "latestWkid": 102633
  }
 },
 "initialExtent": {
  "xmin": 1300765.0315324105,
  "ymin": 3745368.4393942333,
  "xmax": 1640232.8565324103,
  "ymax": 4117231.2127275662,
  "spatialReference": {
   "wkid": 102633,
   "latestWkid": 102633
  }
 },
 "fullExtent": {
  "xmin": 1300765.0315324105,
  "ymin": 3745368.4393942333,
  "xmax": 1640232.8565324103,
  "ymax": 4117231.2127275662,
  "spatialReference": {
   "wkid": 102633,
   "latestWkid": 102633
  }
 },
 "sortableFields": "",
 "bandCount": 1,
 "pixelType": "F32",
 "minValues": [
  430.83471679688
 ],
 "maxValues": [
  2518.0874023438
 ],
 "meanValues": [
  874.22481478287
 ],
 "stdvValues": [
  357.69334826318
 ],
 "hasMultidimensions": false,
 "pixelSizeX": 3.2808333333333306,
 "pixelSizeY": 3.28083333333333,
 "meanPixelSize": 0.9999999999999991,
 "datasetFormat": "TIFF",
 "uncompressedSize": 46910814720,
 "blockWidth": 128,
 "blockHeight": 64,
 "compressionType": "None",
 "bandNames": [
  "Band_1"
 ],
 "allowCopy": true,
 "allowAnalysis": true,
 "itemAccess": false,
 "inspectionCapabilities": "",
 "noDataValue": -3.4028234663852886E38,
 "noDataValues": [
  -3.4028234663852886E38
 ],
 "minPixelSize": 0,
 "maxPixelSize": 0,
 "copyrightText": "Data collection was supported by funding from the Department of Natural Resources (DNR), Division of Geological & Geophysical Surveys (DGGS), the Alaska Gas Pipeline Project Office, the Office of the Federal Coordinator, and the Alaska Gasline Development Corporation (AGDC). Lidar data were collected and processed by Watershed Sciences of Corvalis, Oregon. Survey data were collected by McClintock Land Associates of Eagle River, AK. Lidar data and derivative products were checked for quality, completeness, and accuracy by State of Oregon Department of Geology & Mineral Industries based in Portland, OR.",
 "serviceDataType": "esriImageServiceDataTypeGeneric",
 "serviceSourceType": "esriImageServiceSourceTypeDataset",
 "objectIdField": "",
 "fields": [],
 "capabilities": "Image,Metadata,Mensuration",
 "defaultMosaicMethod": "Center",
 "allowedMosaicMethods": "",
 "sortField": "",
 "sortValue": null,
 "sortAscending": true,
 "mosaicOperator": "First",
 "defaultCompressionQuality": 75,
 "defaultResamplingMethod": "Bilinear",
 "maxImageHeight": 4100,
 "maxImageWidth": 15000,
 "allowRasterFunction": true,
 "rasterFunctionInfos": [
  {
   "name": "None",
   "description": "",
   "help": ""
  }
 ],
 "rasterTypeInfos": [
  {
   "name": "Raster Dataset",
   "description": "Supports all ArcGIS Raster Datasets",
   "help": ""
  }
 ],
 "mensurationCapabilities": "Basic",
 "hasHistograms": true,
 "hasColormap": false,
 "hasRasterAttributeTable": false,
 "minScale": 0,
 "maxScale": 0,
 "exportTilesAllowed": false,
 "supportsStatistics": false,
 "supportsAdvancedQueries": false,
 "editFieldsInfo": null,
 "ownershipBasedAccessControlForRasters": null,
 "allowComputeTiePoints": false,
 "useStandardizedQueries": true,
 "advancedQueryCapabilities": {
  "useStandardizedQueries": true,
  "supportsStatistics": false,
  "supportsOrderBy": false,
  "supportsDistinct": false,
  "supportsPagination": false
 },
 "spatialReference": {
  "wkid": 102633,
  "latestWkid": 102633
 }
}
