View In:
ArcGIS JavaScript
ArcGIS Online Map Viewer
ArcGIS Earth
Service Description: This delivery contains a 4 foot resolution bare-earth DEM in geodatabase format. The following are the collection parameters and equipment used to create these data sets: Aircraft: Cessna 320 (43Q) lidar System: Optech ALTM Gemini (03SEN145) Approximate Collection Altitude (Above Mean Terrain): 1400 meters Ground Speed: 150 kts lidar Pulse Rate Frequency: 70 kHz Mirror Scan Frequency: 48 Hz Scan Angle (+/-): 12 degrees Accuracy statements are based on areas of moderate terrain, with points classified as ground. Diminished accuracies are to be expected in areas of extreme terrain and dense vegetation. The accuracy of each point is expected to meet the vertical accuracy standard, derived products may be less accurate in areas of extreme terrain and dense vegetation due to a lesser number of points defining the ground in these areas. Classified data sets such as this one may have varying posting due to some pulses not reaching the ground.
Name: Elevation_2010_Corps_of_Engineers
Description: This delivery contains a 4 foot resolution bare-earth DEM in geodatabase format. The following are the collection parameters and equipment used to create these data sets: Aircraft: Cessna 320 (43Q) lidar System: Optech ALTM Gemini (03SEN145) Approximate Collection Altitude (Above Mean Terrain): 1400 meters Ground Speed: 150 kts lidar Pulse Rate Frequency: 70 kHz Mirror Scan Frequency: 48 Hz Scan Angle (+/-): 12 degrees Accuracy statements are based on areas of moderate terrain, with points classified as ground. Diminished accuracies are to be expected in areas of extreme terrain and dense vegetation. The accuracy of each point is expected to meet the vertical accuracy standard, derived products may be less accurate in areas of extreme terrain and dense vegetation due to a lesser number of points defining the ground in these areas. Classified data sets such as this one may have varying posting due to some pulses not reaching the ground.
Single Fused Map Cache: false
Extent:
XMin: 1329712
YMin: 3916256
XMax: 1460432
YMax: 3983356
Spatial Reference: 102633
(102633)
Initial Extent:
XMin: 1329712
YMin: 3916256
XMax: 1460432
YMax: 3983356
Spatial Reference: 102633
(102633)
Full Extent:
XMin: 1329712
YMin: 3916256
XMax: 1460432
YMax: 3983356
Spatial Reference: 102633
(102633)
Pixel Size X: 4.0
Pixel Size Y: 4.0
Band Count: 1
Pixel Type: F32
RasterFunction Infos: {"rasterFunctionInfos": [{
"name": "None",
"description": "Make a Raster or Raster Dataset into a Function Raster Dataset.",
"help": ""
}]}
Mensuration Capabilities: Basic
Inspection Capabilities:
Has Histograms: true
Has Colormap: false
Has Multi Dimensions : false
Rendering Rule:
Min Scale: 0
Max Scale: 0
Copyright Text:
Service Data Type: esriImageServiceDataTypeGeneric
Min Values: 400.09762573242
Max Values: 1150.9796142578
Mean Values: 485.7751440595
Standard Deviation Values: 77.433700316748
Object ID Field:
Fields:
None
Default Mosaic Method: Center
Allowed Mosaic Methods:
SortField:
SortValue: null
Mosaic Operator: First
Default Compression Quality: 75
Default Resampling Method: Bilinear
Max Record Count: null
Max Image Height: 4100
Max Image Width: 15000
Max Download Image Count: null
Max Mosaic Image Count: null
Allow Raster Function: true
Allow Copy: true
Allow Analysis: true
Allow Compute TiePoints: false
Supports Statistics: false
Supports Advanced Queries: false
Use StandardizedQueries: true
Raster Type Infos:
Name: Raster Dataset
Description: Supports all ArcGIS Raster Datasets
Help:
Has Raster Attribute Table: false
Edit Fields Info: null
Ownership Based AccessControl For Rasters: null
Child Resources:
Info
Histograms
Statistics
Key Properties
Legend
Raster Function Infos
Supported Operations:
Export Image
Identify
Measure
Compute Histograms
Compute Statistics Histograms
Get Samples
Compute Class Statistics
Query Boundary
Compute Pixel Location
Compute Angles
Validate
Project