{
 "currentVersion": 11.3,
 "serviceDescription": "This delivery contains a 4 foot resolution bare-earth DEM in geodatabase format. The following are the collection parameters and equipment used to create these data sets: Aircraft: Cessna 320 (43Q) lidar System: Optech ALTM Gemini (03SEN145) Approximate Collection Altitude (Above Mean Terrain): 1400 meters Ground Speed: 150 kts lidar Pulse Rate Frequency: 70 kHz Mirror Scan Frequency: 48 Hz Scan Angle (+/-): 12 degrees Accuracy statements are based on areas of moderate terrain, with points classified as ground. Diminished accuracies are to be expected in areas of extreme terrain and dense vegetation. The accuracy of each point is expected to meet the vertical accuracy standard, derived products may be less accurate in areas of extreme terrain and dense vegetation due to a lesser number of points defining the ground in these areas. Classified data sets such as this one may have varying posting due to some pulses not reaching the ground.",
 "name": "Elevation_2010_Corps_of_Engineers",
 "description": "This delivery contains a 4 foot resolution bare-earth DEM in geodatabase format. The following are the collection parameters and equipment used to create these data sets: Aircraft: Cessna 320 (43Q) lidar System: Optech ALTM Gemini (03SEN145) Approximate Collection Altitude (Above Mean Terrain): 1400 meters Ground Speed: 150 kts lidar Pulse Rate Frequency: 70 kHz Mirror Scan Frequency: 48 Hz Scan Angle (+/-): 12 degrees Accuracy statements are based on areas of moderate terrain, with points classified as ground. Diminished accuracies are to be expected in areas of extreme terrain and dense vegetation. The accuracy of each point is expected to meet the vertical accuracy standard, derived products may be less accurate in areas of extreme terrain and dense vegetation due to a lesser number of points defining the ground in these areas. Classified data sets such as this one may have varying posting due to some pulses not reaching the ground.",
 "extent": {
  "xmin": 1329712,
  "ymin": 3916256,
  "xmax": 1460432,
  "ymax": 3983356,
  "spatialReference": {
   "wkid": 102633,
   "latestWkid": 102633
  }
 },
 "initialExtent": {
  "xmin": 1329712,
  "ymin": 3916256,
  "xmax": 1460432,
  "ymax": 3983356,
  "spatialReference": {
   "wkid": 102633,
   "latestWkid": 102633
  }
 },
 "fullExtent": {
  "xmin": 1329712,
  "ymin": 3916256,
  "xmax": 1460432,
  "ymax": 3983356,
  "spatialReference": {
   "wkid": 102633,
   "latestWkid": 102633
  }
 },
 "sortableFields": "",
 "bandCount": 1,
 "pixelType": "F32",
 "minValues": [
  400.09762573242
 ],
 "maxValues": [
  1150.9796142578
 ],
 "meanValues": [
  485.7751440595
 ],
 "stdvValues": [
  77.433700316748
 ],
 "hasMultidimensions": false,
 "pixelSizeX": 4,
 "pixelSizeY": 4,
 "meanPixelSize": 1.219202438404877,
 "datasetFormat": "IMAGINE Image",
 "uncompressedSize": 2192828000,
 "blockWidth": 64,
 "blockHeight": 64,
 "compressionType": "None",
 "bandNames": [
  "Layer_1"
 ],
 "allowCopy": true,
 "allowAnalysis": true,
 "itemAccess": false,
 "inspectionCapabilities": "",
 "noDataValue": -3.4028234663852886E38,
 "noDataValues": [
  -3.4028234663852886E38
 ],
 "minPixelSize": 0,
 "maxPixelSize": 0,
 "copyrightText": "",
 "serviceDataType": "esriImageServiceDataTypeGeneric",
 "serviceSourceType": "esriImageServiceSourceTypeDataset",
 "objectIdField": "",
 "fields": [],
 "capabilities": "Image,Metadata,Mensuration",
 "defaultMosaicMethod": "Center",
 "allowedMosaicMethods": "",
 "sortField": "",
 "sortValue": null,
 "sortAscending": true,
 "mosaicOperator": "First",
 "defaultCompressionQuality": 75,
 "defaultResamplingMethod": "Bilinear",
 "maxImageHeight": 4100,
 "maxImageWidth": 15000,
 "allowRasterFunction": true,
 "rasterFunctionInfos": [
  {
   "name": "None",
   "description": "Make a Raster or Raster Dataset into a Function Raster Dataset.",
   "help": ""
  }
 ],
 "rasterTypeInfos": [
  {
   "name": "Raster Dataset",
   "description": "Supports all ArcGIS Raster Datasets",
   "help": ""
  }
 ],
 "mensurationCapabilities": "Basic",
 "hasHistograms": true,
 "hasColormap": false,
 "hasRasterAttributeTable": false,
 "minScale": 0,
 "maxScale": 0,
 "exportTilesAllowed": false,
 "supportsStatistics": false,
 "supportsAdvancedQueries": false,
 "editFieldsInfo": null,
 "ownershipBasedAccessControlForRasters": null,
 "allowComputeTiePoints": false,
 "useStandardizedQueries": true,
 "advancedQueryCapabilities": {
  "useStandardizedQueries": true,
  "supportsStatistics": false,
  "supportsOrderBy": false,
  "supportsDistinct": false,
  "supportsPagination": false
 },
 "spatialReference": {
  "wkid": 102633,
  "latestWkid": 102633
 }
}
