View In:
ArcGIS JavaScript
ArcGIS Online Map Viewer
ArcGIS Earth
Service Description: Land_Suitability_2013
Name: Land_Suitability_2013
Description:
Single Fused Map Cache: false
Extent:
XMin: 1224181.2178368382
YMin: 3748954.0135883433
XMax: 1966609.2178361355
YMax: 4185850.013587929
Spatial Reference: 102633
(102633)
Initial Extent:
XMin: 1224181.2178368382
YMin: 3748954.0135883433
XMax: 1966609.2178361355
YMax: 4185850.013587929
Spatial Reference: 102633
(102633)
Full Extent:
XMin: 1224181.2178368382
YMin: 3748954.0135883433
XMax: 1966609.2178361355
YMax: 4185850.013587929
Spatial Reference: 102633
(102633)
Pixel Size X: 98.39999999990687
Pixel Size Y: 98.39999999990665
Band Count: 1
Pixel Type: S8
RasterFunction Infos: {"rasterFunctionInfos": [
{
"name": "Land_Suitability_2013",
"description": "Land_Suitability_2013",
"help": ""
},
{
"name": "None",
"description": "",
"help": ""
}
]}
Mensuration Capabilities: Basic
Inspection Capabilities:
Has Histograms: true
Has Colormap: false
Has Multi Dimensions : false
Rendering Rule:
Min Scale: 0
Max Scale: 0
Copyright Text:
Service Data Type: esriImageServiceDataTypeGeneric
Min Values: -16
Max Values: 14
Mean Values: 0.7457036269991679
Standard Deviation Values: 4.565443027428773
Object ID Field:
Fields:
None
Default Mosaic Method: Center
Allowed Mosaic Methods:
SortField:
SortValue: null
Mosaic Operator: First
Default Compression Quality: 75
Default Resampling Method: Bilinear
Max Record Count: null
Max Image Height: 4100
Max Image Width: 15000
Max Download Image Count: null
Max Mosaic Image Count: null
Allow Raster Function: true
Allow Copy: true
Allow Analysis: true
Allow Compute TiePoints: false
Supports Statistics: false
Supports Advanced Queries: false
Use StandardizedQueries: true
Raster Type Infos:
Name: Raster Dataset
Description: Supports all ArcGIS Raster Datasets
Help:
Has Raster Attribute Table: true
Edit Fields Info: null
Ownership Based AccessControl For Rasters: null
Child Resources:
Info
Raster Attribute Table
Histograms
Statistics
Key Properties
Legend
Raster Function Infos
Supported Operations:
Export Image
Identify
Measure
Compute Histograms
Compute Statistics Histograms
Get Samples
Compute Class Statistics
Query Boundary
Compute Pixel Location
Compute Angles
Validate
Project