View In:
ArcGIS JavaScript
ArcGIS Online Map Viewer
ArcGIS Earth
Service Description: Elevation_2017_LiDAR_Bare_Earth_DEM__with_raster_functions
Name: Elevation_2017_LiDAR_Bare_Earth_DEM__with_raster_functions
Description:
Single Fused Map Cache: false
Extent:
XMin: -1.65512568394E7
YMin: 9412258.994048143
XMax: -1.6188546552698208E7
YMax: 9680402.758100003
Spatial Reference: 102100
(3857)
Initial Extent:
XMin: -1.65512568394E7
YMin: 9412258.994048143
XMax: -1.6188546552698208E7
YMax: 9680402.758100003
Spatial Reference: 102100
(3857)
Full Extent:
XMin: -1.65512568394E7
YMin: 9412258.994048143
XMax: -1.6188546552698208E7
YMax: 9680402.758100003
Spatial Reference: 102100
(3857)
Pixel Size X: 0.45720091400000107
Pixel Size Y: 0.45720091400000035
Band Count: 1
Pixel Type: F32
RasterFunction Infos: {"rasterFunctionInfos": [
{
"name": "2017 DEM Hillshade",
"description": "Raster Function Template - Hillshade",
"help": ""
},
{
"name": "2017 DEM ShadedRelief",
"description": "Raster Function Template - Shaded Relief",
"help": ""
},
{
"name": "2017 DEM AspectSlope",
"description": "Raster Function Template - Aspect_Slope",
"help": ""
},
{
"name": "2017 DEM Contours10ft",
"description": "2017 DEM Contours10ft",
"help": ""
},
{
"name": "2017 Contours50ft",
"description": "2017 Contours50ft",
"help": ""
},
{
"name": "2017 Contours100ft",
"description": "2017 Contours100ft",
"help": ""
},
{
"name": "None",
"description": "Make a Raster or Raster Dataset into a Function Raster Dataset.",
"help": ""
}
]}
Mensuration Capabilities: None
Inspection Capabilities:
Has Histograms: true
Has Colormap: false
Has Multi Dimensions : false
Rendering Rule:
Min Scale: 0
Max Scale: 0
Copyright Text:
Service Data Type: esriImageServiceDataTypeGeneric
Min Values: 331.5844421386719
Max Values: 3660.095458984375
Mean Values: 989.9326414418722
Standard Deviation Values: 487.4251757052092
Object ID Field: OBJECTID
Fields:
-
OBJECTID
(
type: esriFieldTypeOID, alias: OBJECTID
)
-
Name
(
type: esriFieldTypeString, alias: Name, length: 200
)
-
MinPS
(
type: esriFieldTypeDouble, alias: MinPS
)
-
MaxPS
(
type: esriFieldTypeDouble, alias: MaxPS
)
-
LowPS
(
type: esriFieldTypeDouble, alias: LowPS
)
-
HighPS
(
type: esriFieldTypeDouble, alias: HighPS
)
-
Category
(
type: esriFieldTypeInteger, alias: Category
, Coded Values:
[0: Unknown]
, [1: Primary]
, [2: Overview]
, ...6 more...
)
-
Tag
(
type: esriFieldTypeString, alias: Tag, length: 100
)
-
GroupName
(
type: esriFieldTypeString, alias: GroupName, length: 100
)
-
ProductName
(
type: esriFieldTypeString, alias: ProductName, length: 100
)
-
CenterX
(
type: esriFieldTypeDouble, alias: CenterX
)
-
CenterY
(
type: esriFieldTypeDouble, alias: CenterY
)
-
ZOrder
(
type: esriFieldTypeInteger, alias: ZOrder
)
-
Shape
(
type: esriFieldTypeGeometry, alias: Shape
)
-
Shape.STArea()
(
type: esriFieldTypeDouble, alias: Shape.STArea()
)
-
Shape.STLength()
(
type: esriFieldTypeDouble, alias: Shape.STLength()
)
Default Mosaic Method: Northwest
Allowed Mosaic Methods: NorthWest,Center,LockRaster,ByAttribute,Nadir,Viewpoint,Seamline,None
SortField:
SortValue: null
Mosaic Operator: First
Default Compression Quality: 10000
Default Resampling Method: Bilinear
Max Record Count: 1000
Max Image Height: 4100
Max Image Width: 15000
Max Download Image Count: 20
Max Mosaic Image Count: 100
Allow Raster Function: true
Allow Copy: false
Allow Analysis: false
Allow Compute TiePoints: false
Supports Statistics: true
Supports Advanced Queries: true
Use StandardizedQueries: true
Raster Type Infos:
Name: Raster Dataset
Description: Supports all ArcGIS Raster Datasets
Help:
Has Raster Attribute Table: false
Edit Fields Info: null
Ownership Based AccessControl For Rasters: null
Child Resources:
Info
Histograms
Statistics
Key Properties
Legend
Raster Function Infos
Supported Operations:
Export Image
Query
Identify
Compute Histograms
Compute Statistics Histograms
Get Samples
Compute Class Statistics
Query GPS Info
Find Images
Image to Map
Map to Image
Measure from Image
Image to Map Multiray
Query Boundary
Compute Pixel Location
Compute Angles
Validate
Project