<?xml version="1.0" encoding="UTF-8" standalone="no"?>
<metadata xml:lang="en">
<Esri>
<CreaDate>20211116</CreaDate>
<CreaTime>08194800</CreaTime>
<ArcGISFormat>1.0</ArcGISFormat>
<SyncOnce>FALSE</SyncOnce>
<DataProperties>
<lineage>
<Process Date="20211116" Name="Reclassify" Time="081948" ToolSource="c:\program files\arcgis\pro\Resources\ArcToolbox\toolboxes\Spatial Analyst Tools.tbx\Reclassify">Reclassify N:\Projects\04200_20249_FNSBLSA\GIS\Working\LSA_RatingPlus6\LSA_RatingPlus6.gdb\WOCompositeExclusions Value "0 0;3 4;4 4;5 5;6 6;7 7;8 8;9 8" N:\Projects\04200_20249_FNSBLSA\GIS\Working\LSA_RatingPlus6\LSA_RatingPlus6.gdb\FinalWOComposite DATA</Process>
<Process Date="20211116" Time="084337" ToolSource="c:\program files\arcgis\pro\Resources\ArcToolbox\toolboxes\Data Management Tools.tbx\Rename">Rename N:\Projects\04200_20249_FNSBLSA\GIS\Working\LSA_RatingPlus6\LSA_RatingPlus6.gdb\FinalWOComposite N:\Projects\04200_20249_FNSBLSA\GIS\Working\LSA_RatingPlus6\LSA_RatingPlus6.gdb\FinalComposite RasterDataset</Process>
<Process Date="20211116" Time="084519" ToolSource="c:\program files\arcgis\pro\Resources\ArcToolbox\Toolboxes\Data Management Tools.tbx\CopyMultiple">CopyMultiple "N:\Projects\04200_20249_FNSBLSA\GIS\Working\LSA_RatingPlus6\LSA_RatingPlus6.gdb\FinalComposite RasterDataset" N:\Projects\04200_20249_FNSBLSA\GIS\Deliverable\FBNSB_LSA_2021\FBNSB_LSA_2021.gdb FinalComposite "FinalComposite RasterDataset FinalComposite #"</Process>
<Process Date="20230419" Time="152017" ToolSource="c:\program files\arcgis\pro\Resources\ArcToolbox\toolboxes\Data Management Tools.tbx\ProjectRaster">ProjectRaster "Land Suitability 2021" W:\fnsb\GIS\GIS_Support_Projects\Community_Planning\Planning\Land_Suitability_Update_Kellner_2023\Geodata\Land_Suitability_Update2021.gdb\FinalComposite2021_reprojected PROJCS["NAD_1983_StatePlane_Alaska_3_FIPS_5003_Feet",GEOGCS["GCS_North_American_1983",DATUM["D_North_American_1983",SPHEROID["GRS_1980",6378137.0,298.257222101]],PRIMEM["Greenwich",0.0],UNIT["Degree",0.0174532925199433]],PROJECTION["Transverse_Mercator"],PARAMETER["False_Easting",1640416.666666667],PARAMETER["False_Northing",0.0],PARAMETER["Central_Meridian",-146.0],PARAMETER["Scale_Factor",0.9999],PARAMETER["Latitude_Of_Origin",54.0],UNIT["Foot_US",0.3048006096012192]] "Nearest neighbor" "32.8083333333333 32.8083333333333" # # PROJCS["NAD_1983_UTM_Zone_6N",GEOGCS["GCS_North_American_1983",DATUM["D_North_American_1983",SPHEROID["GRS_1980",6378137.0,298.257222101]],PRIMEM["Greenwich",0.0],UNIT["Degree",0.0174532925199433]],PROJECTION["Transverse_Mercator"],PARAMETER["False_Easting",500000.0],PARAMETER["False_Northing",0.0],PARAMETER["Central_Meridian",-147.0],PARAMETER["Scale_Factor",0.9996],PARAMETER["Latitude_Of_Origin",0.0],UNIT["Meter",1.0]] NO_VERTICAL</Process>
<Process Date="20230419" Time="161600" ToolSource="c:\program files\arcgis\pro\Resources\ArcToolbox\toolboxes\Data Management Tools.tbx\CopyMultiple">CopyMultiple "W:\fnsb\GIS\GIS_Support_Projects\Community_Planning\Planning\Land_Suitability_Update_Kellner_2023\Geodata\Land_Suitability_Update2021.gdb\FinalComposite2021_reprojected RasterDataset" W:\fnsb\GIS\GIS_Support_Projects\Community_Planning\Planning\Land_Suitability_Update_Kellner_2023\Geodata\Land_Suitability_Update2021.gdb FinalComposite2021_reprojected_1 "FinalComposite2021_reprojected RasterDataset FinalComposite2021_reprojected_1 #"</Process>
<Process Date="20230419" Time="161620" ToolSource="c:\program files\arcgis\pro\Resources\ArcToolbox\toolboxes\Data Management Tools.tbx\Rename">Rename W:\fnsb\GIS\GIS_Support_Projects\Community_Planning\Planning\Land_Suitability_Update_Kellner_2023\Geodata\Land_Suitability_Update2021.gdb\FinalComposite2021_reprojected_1 W:\fnsb\GIS\GIS_Support_Projects\Community_Planning\Planning\Land_Suitability_Update_Kellner_2023\Geodata\Land_Suitability_Update2021.gdb\Land RasterDataset</Process>
<Process Date="20230419" Time="162607" ToolSource="c:\program files\arcgis\pro\Resources\ArcToolbox\toolboxes\Data Management Tools.tbx\Rename">Rename W:\fnsb\GIS\GIS_Support_Projects\Community_Planning\Planning\Land_Suitability_Update_Kellner_2023\Geodata\Land_Suitability_Update2021.gdb\Land W:\fnsb\GIS\GIS_Support_Projects\Community_Planning\Planning\Land_Suitability_Update_Kellner_2023\Geodata\Land_Suitability_Update2021.gdb\LANDUSE_RELATIVE_DEVELOP2021 RasterDataset</Process>
<Process Date="20230419" Time="162704" ToolSource="c:\program files\arcgis\pro\Resources\ArcToolbox\toolboxes\Data Management Tools.tbx\CopyMultiple">CopyMultiple "W:\fnsb\GIS\GIS_Support_Projects\Community_Planning\Planning\Land_Suitability_Update_Kellner_2023\Geodata\Land_Suitability_Update2021.gdb\LANDUSE_RELATIVE_DEVELOP2021 RasterDataset" "C:\Users\dunbarb\OneDrive - Fairbanks North Star Borough\ARCPRO\Projects\davik_bd\enterpriseGOV@PlanningData.gis-pd-sql01.local.fnsb.gov.sde" LANDUSE_RELATIVE_DEVELOP2021 "LANDUSE_RELATIVE_DEVELOP2021 RasterDataset PlanningData.ENTERPRISE.LANDUSE_RELATIVE_DEVELOP2021 #"</Process>
<Process Date="20230420" Time="075447" ToolSource="c:\program files\arcgis\pro\Resources\ArcToolbox\Toolboxes\Data Management Tools.tbx\CopyMultiple">CopyMultiple "'C:\Users\dunbarb\OneDrive - Fairbanks North Star Borough\ARCPRO\Projects\davik_bd\enterpriseGOV@PlanningData.gis-pd-sql01.local.fnsb.gov.sde\PlanningData.ENTERPRISE.LANDUSE_RELATIVE_DEVELOP2021' RasterDataset" "C:\Users\dunbarb\OneDrive - Fairbanks North Star Borough\ARCPRO\Projects\davik_bd\gisAdmin@FNSBGIS.PSQL01.sde" LANDUSE_RELATIVE_DEVELOP2021 "PlanningData.ENTERPRISE.LANDUSE_RELATIVE_DEVELOP2021 RasterDataset FNSBGIS.GISADMIN.LANDUSE_RELATIVE_DEVELOP2021 #"</Process>
<Process Date="20240930" Time="105429" ToolSource="c:\program files\arcgis\pro\Resources\ArcToolbox\Toolboxes\Data Management Tools.tbx\CopyMultiple">CopyMultiple "'C:\Users\fortek\OneDrive - Fairbanks North Star Borough\kpf\fortek\kpf_ArcPRO\_DatabaseConnections\NET1.gisAdmin@FNSBGIS.PSQL01.sde\FNSBGIS.GISADMIN.LANDUSE_RELATIVE_DEVELOP2013' RasterDataset;'C:\Users\fortek\OneDrive - Fairbanks North Star Borough\kpf\fortek\kpf_ArcPRO\_DatabaseConnections\NET1.gisAdmin@FNSBGIS.PSQL01.sde\FNSBGIS.GISADMIN.LANDUSE_RELATIVE_DEVELOP2021' RasterDataset" "C:\Users\fortek\OneDrive - Fairbanks North Star Borough\kpf\fortek\kpf_ArcPRO\_enterprise@ProductionGDB.sde" LANDUSE_RELATIVE_DEVELOP2013;LANDUSE_RELATIVE_DEVELOP2021 "FNSBGIS.GISADMIN.LANDUSE_RELATIVE_DEVELOP2013 RasterDataset ProductionGDB.ENTERPRISE.LANDUSE_RELATIVE_DEVELOP2013 #;FNSBGIS.GISADMIN.LANDUSE_RELATIVE_DEVELOP2021 RasterDataset ProductionGDB.ENTERPRISE.LANDUSE_RELATIVE_DEVELOP2021 #"</Process>
</lineage>
<itemProps>
<itemName Sync="TRUE">FinalComposite2021_reprojected</itemName>
<imsContentType Sync="TRUE">002</imsContentType>
<nativeExtBox>
<westBL Sync="TRUE">1222387.339164</westBL>
<eastBL Sync="TRUE">1968973.772497</eastBL>
<southBL Sync="TRUE">3742014.290400</southBL>
<northBL Sync="TRUE">4191947.773733</northBL>
<exTypeCode Sync="TRUE">1</exTypeCode>
</nativeExtBox>
<itemLocation>
<linkage Sync="TRUE">file://\\net1.fnsb\shares$\workgrps\fnsb\GIS\GIS_Support_Projects\Community_Planning\Planning\Land_Suitability_Update_Kellner_2023\Geodata\Land_Suitability_Update2021.gdb</linkage>
<protocol Sync="TRUE">Local Area Network</protocol>
</itemLocation>
</itemProps>
<coordRef>
<type Sync="TRUE">Projected</type>
<geogcsn Sync="TRUE">GCS_North_American_1983</geogcsn>
<csUnits Sync="TRUE">Linear Unit: Foot_US (0.304801)</csUnits>
<projcsn Sync="TRUE">NAD_1983_StatePlane_Alaska_3_FIPS_5003_Feet</projcsn>
<peXml Sync="TRUE">&lt;ProjectedCoordinateSystem xsi:type='typens:ProjectedCoordinateSystem' xmlns:xsi='http://www.w3.org/2001/XMLSchema-instance' xmlns:xs='http://www.w3.org/2001/XMLSchema' xmlns:typens='http://www.esri.com/schemas/ArcGIS/3.1.0'&gt;&lt;WKT&gt;PROJCS[&amp;quot;NAD_1983_StatePlane_Alaska_3_FIPS_5003_Feet&amp;quot;,GEOGCS[&amp;quot;GCS_North_American_1983&amp;quot;,DATUM[&amp;quot;D_North_American_1983&amp;quot;,SPHEROID[&amp;quot;GRS_1980&amp;quot;,6378137.0,298.257222101]],PRIMEM[&amp;quot;Greenwich&amp;quot;,0.0],UNIT[&amp;quot;Degree&amp;quot;,0.0174532925199433]],PROJECTION[&amp;quot;Transverse_Mercator&amp;quot;],PARAMETER[&amp;quot;False_Easting&amp;quot;,1640416.666666667],PARAMETER[&amp;quot;False_Northing&amp;quot;,0.0],PARAMETER[&amp;quot;Central_Meridian&amp;quot;,-146.0],PARAMETER[&amp;quot;Scale_Factor&amp;quot;,0.9999],PARAMETER[&amp;quot;Latitude_Of_Origin&amp;quot;,54.0],UNIT[&amp;quot;Foot_US&amp;quot;,0.3048006096012192],AUTHORITY[&amp;quot;Esri&amp;quot;,102633]]&lt;/WKT&gt;&lt;XOrigin&gt;-16806300&lt;/XOrigin&gt;&lt;YOrigin&gt;-52448700&lt;/YOrigin&gt;&lt;XYScale&gt;137255069.87923574&lt;/XYScale&gt;&lt;ZOrigin&gt;-100000&lt;/ZOrigin&gt;&lt;ZScale&gt;10000&lt;/ZScale&gt;&lt;MOrigin&gt;-100000&lt;/MOrigin&gt;&lt;MScale&gt;10000&lt;/MScale&gt;&lt;XYTolerance&gt;0.0032808333333333331&lt;/XYTolerance&gt;&lt;ZTolerance&gt;0.001&lt;/ZTolerance&gt;&lt;MTolerance&gt;0.001&lt;/MTolerance&gt;&lt;HighPrecision&gt;true&lt;/HighPrecision&gt;&lt;WKID&gt;102633&lt;/WKID&gt;&lt;LatestWKID&gt;102633&lt;/LatestWKID&gt;&lt;/ProjectedCoordinateSystem&gt;</peXml>
</coordRef>
</DataProperties>
<SyncDate>20230419</SyncDate>
<SyncTime>15201500</SyncTime>
<ModDate>20230419</ModDate>
<ModTime>15201500</ModTime>
</Esri>
<dataIdInfo>
<envirDesc Sync="TRUE">Microsoft Windows 10 Version 10.0 (Build 19042) ; Esri ArcGIS 13.1.0.41833</envirDesc>
<dataLang>
<languageCode Sync="TRUE" value="eng"/>
<countryCode Sync="TRUE" value="USA"/>
</dataLang>
<idCitation>
<resTitle Sync="TRUE">Land_Suitibility_2021</resTitle>
<presForm>
<PresFormCd Sync="TRUE" value="011"/>
</presForm>
</idCitation>
<spatRpType>
<SpatRepTypCd Sync="TRUE" value="002"/>
</spatRpType>
<dataExt>
<geoEle>
<GeoBndBox esriExtentType="search">
<exTypeCode Sync="TRUE">1</exTypeCode>
<westBL Sync="TRUE">-148.747640</westBL>
<eastBL Sync="TRUE">-143.839868</eastBL>
<northBL Sync="TRUE">65.470087</northBL>
<southBL Sync="TRUE">64.216319</southBL>
</GeoBndBox>
</geoEle>
</dataExt>
<idAbs/>
<searchKeys>
<keyword>Land_Suitibility_2021</keyword>
</searchKeys>
<idPurp>Land_Suitibility_2021</idPurp>
<idCredit/>
<resConst>
<Consts>
<useLimit/>
</Consts>
</resConst>
</dataIdInfo>
<mdLang>
<languageCode Sync="TRUE" value="eng"/>
<countryCode Sync="TRUE" value="USA"/>
</mdLang>
<distInfo>
<distFormat>
<formatName Sync="TRUE">File Geodatabase Raster Dataset</formatName>
</distFormat>
</distInfo>
<mdHrLv>
<ScopeCd Sync="TRUE" value="005"/>
</mdHrLv>
<mdHrLvName Sync="TRUE">dataset</mdHrLvName>
<refSysInfo>
<RefSystem>
<refSysID>
<identCode Sync="TRUE" code="102633"/>
<idCodeSpace Sync="TRUE">Esri</idCodeSpace>
<idVersion Sync="TRUE">8.0.1</idVersion>
</refSysID>
</RefSystem>
</refSysInfo>
<spdoinfo>
<rastinfo>
<rasttype Sync="TRUE">Pixel</rasttype>
<rowcount Sync="TRUE">13714</rowcount>
<colcount Sync="TRUE">22756</colcount>
<rastxsz Sync="TRUE">32.808333</rastxsz>
<rastysz Sync="TRUE">32.808333</rastysz>
<rastbpp Sync="TRUE">8</rastbpp>
<vrtcount Sync="TRUE">1</vrtcount>
<rastorig Sync="TRUE">Upper Left</rastorig>
<rastcmap Sync="TRUE">FALSE</rastcmap>
<rastcomp Sync="TRUE">LZ77</rastcomp>
<rastband Sync="TRUE">1</rastband>
<rastdtyp Sync="TRUE">pixel codes</rastdtyp>
<rastifor Sync="TRUE">FGDBR</rastifor>
<rastplyr Sync="TRUE">TRUE</rastplyr>
</rastinfo>
</spdoinfo>
<spref>
<horizsys>
<planar>
<planci>
<plance Sync="TRUE">row and column</plance>
<coordrep>
<absres Sync="TRUE">32.808333</absres>
<ordres Sync="TRUE">32.808333</ordres>
</coordrep>
</planci>
</planar>
</horizsys>
</spref>
<eainfo>
<detailed Name="VAT_FinalComposite2021_reprojected">
<enttyp>
<enttypl Sync="TRUE">VAT_FinalComposite2021_reprojected</enttypl>
<enttypt Sync="TRUE">Table</enttypt>
<enttypc Sync="TRUE">6</enttypc>
</enttyp>
<attr>
<attrlabl Sync="TRUE">OBJECTID</attrlabl>
<attalias Sync="TRUE">OBJECTID</attalias>
<attrtype Sync="TRUE">OID</attrtype>
<attwidth Sync="TRUE">4</attwidth>
<atprecis Sync="TRUE">0</atprecis>
<attscale Sync="TRUE">0</attscale>
<attrdef Sync="TRUE">Internal feature number.</attrdef>
<attrdefs Sync="TRUE">Esri</attrdefs>
<attrdomv>
<udom Sync="TRUE">Sequential unique whole numbers that are automatically generated.</udom>
</attrdomv>
</attr>
<attr>
<attrlabl Sync="TRUE">Value</attrlabl>
<attalias Sync="TRUE">Value</attalias>
<attrtype Sync="TRUE">Integer</attrtype>
<attwidth Sync="TRUE">4</attwidth>
<atprecis Sync="TRUE">0</atprecis>
<attscale Sync="TRUE">0</attscale>
</attr>
<attr>
<attrlabl Sync="TRUE">Count</attrlabl>
<attalias Sync="TRUE">Count</attalias>
<attrtype Sync="TRUE">Double</attrtype>
<attwidth Sync="TRUE">8</attwidth>
<atprecis Sync="TRUE">0</atprecis>
<attscale Sync="TRUE">0</attscale>
</attr>
<attr>
<attrlabl Sync="TRUE">Description</attrlabl>
<attalias Sync="TRUE">Description</attalias>
<attrtype Sync="TRUE">String</attrtype>
<attwidth Sync="TRUE">25</attwidth>
<atprecis Sync="TRUE">0</atprecis>
<attscale Sync="TRUE">0</attscale>
</attr>
</detailed>
</eainfo>
<mdDateSt Sync="TRUE">20230419</mdDateSt>
</metadata>
