{
 "currentVersion": 11.3,
 "serviceDescription": "Land_Suitability_2013_FNSB",
 "name": "Land_Suitability_2013_FNSB",
 "description": "",
 "extent": {
  "xmin": 1224181.2178368382,
  "ymin": 3748954.0135883433,
  "xmax": 1966609.2178361355,
  "ymax": 4185850.013587929,
  "spatialReference": {
   "wkid": 102633,
   "latestWkid": 102633
  }
 },
 "initialExtent": {
  "xmin": 1224181.2178368382,
  "ymin": 3748954.0135883433,
  "xmax": 1966609.2178361355,
  "ymax": 4185850.013587929,
  "spatialReference": {
   "wkid": 102633,
   "latestWkid": 102633
  }
 },
 "fullExtent": {
  "xmin": 1224181.2178368382,
  "ymin": 3748954.0135883433,
  "xmax": 1966609.2178361355,
  "ymax": 4185850.013587929,
  "spatialReference": {
   "wkid": 102633,
   "latestWkid": 102633
  }
 },
 "sortableFields": "",
 "bandCount": 1,
 "pixelType": "S8",
 "minValues": [
  -16
 ],
 "maxValues": [
  14
 ],
 "meanValues": [
  0.7457036269991679
 ],
 "stdvValues": [
  4.565443027428773
 ],
 "hasMultidimensions": false,
 "pixelSizeX": 98.39999999990687,
 "pixelSizeY": 98.39999999990665,
 "meanPixelSize": 29.992379984731553,
 "datasetFormat": "FGDBR",
 "uncompressedSize": 33499800,
 "blockWidth": 128,
 "blockHeight": 128,
 "compressionType": "LZ77",
 "bandNames": [
  "Band_1"
 ],
 "allowCopy": true,
 "allowAnalysis": true,
 "itemAccess": false,
 "inspectionCapabilities": "",
 "minPixelSize": 0,
 "maxPixelSize": 0,
 "copyrightText": "",
 "serviceDataType": "esriImageServiceDataTypeGeneric",
 "serviceSourceType": "esriImageServiceSourceTypeDataset",
 "objectIdField": "",
 "fields": [],
 "capabilities": "Image,Metadata,Mensuration",
 "defaultMosaicMethod": "Center",
 "allowedMosaicMethods": "",
 "sortField": "",
 "sortValue": null,
 "sortAscending": true,
 "mosaicOperator": "First",
 "defaultCompressionQuality": 75,
 "defaultResamplingMethod": "Bilinear",
 "maxImageHeight": 4100,
 "maxImageWidth": 15000,
 "allowRasterFunction": true,
 "rasterFunctionInfos": [
  {
   "name": "lnd_suitability13",
   "description": "land suitability 2013",
   "help": ""
  },
  {
   "name": "None",
   "description": "",
   "help": ""
  }
 ],
 "rasterTypeInfos": [
  {
   "name": "Raster Dataset",
   "description": "Supports all ArcGIS Raster Datasets",
   "help": ""
  }
 ],
 "mensurationCapabilities": "Basic",
 "hasHistograms": true,
 "hasColormap": false,
 "hasRasterAttributeTable": true,
 "minScale": 0,
 "maxScale": 0,
 "exportTilesAllowed": false,
 "supportsStatistics": false,
 "supportsAdvancedQueries": false,
 "editFieldsInfo": null,
 "ownershipBasedAccessControlForRasters": null,
 "allowComputeTiePoints": false,
 "useStandardizedQueries": true,
 "advancedQueryCapabilities": {
  "useStandardizedQueries": true,
  "supportsStatistics": false,
  "supportsOrderBy": false,
  "supportsDistinct": false,
  "supportsPagination": false
 },
 "spatialReference": {
  "wkid": 102633,
  "latestWkid": 102633
 }
}
