<?xml version="1.0" encoding="UTF-8" standalone="no"?>
<metadata xml:lang="en">
<Esri>
<CreaDate>20170607</CreaDate>
<CreaTime>14555500</CreaTime>
<ArcGISFormat>1.0</ArcGISFormat>
<ArcGISstyle>FGDC CSDGM Metadata</ArcGISstyle>
<SyncOnce>FALSE</SyncOnce>
<DataProperties>
<itemProps>
<itemName Sync="TRUE">DEM_SalchaFloodStudy_2016_HydroEnforced.img</itemName>
<itemLocation>
<linkage Sync="TRUE">file://K:\gis\rasters\DEM_SalchaFloodStudy_2016_HydroEnforced.img</linkage>
<protocol Sync="TRUE">Local Area Network</protocol>
</itemLocation>
<nativeExtBox>
<westBL Sync="TRUE">1424820.000122</westBL>
<eastBL Sync="TRUE">1475313.000122</eastBL>
<southBL Sync="TRUE">3861444.000122</southBL>
<northBL Sync="TRUE">3920994.000122</northBL>
<exTypeCode Sync="TRUE">1</exTypeCode>
</nativeExtBox>
<imsContentType Sync="TRUE">002</imsContentType>
</itemProps>
<coordRef>
<type Sync="TRUE">Projected</type>
<geogcsn Sync="TRUE">GCS_North_American_1983</geogcsn>
<csUnits Sync="TRUE">Linear Unit: Foot_US (0.304801)</csUnits>
<projcsn Sync="TRUE">NAD_1983_StatePlane_Alaska_3_FIPS_5003_Feet</projcsn>
<peXml Sync="TRUE">&lt;ProjectedCoordinateSystem xsi:type='typens:ProjectedCoordinateSystem' xmlns:xsi='http://www.w3.org/2001/XMLSchema-instance' xmlns:xs='http://www.w3.org/2001/XMLSchema' xmlns:typens='http://www.esri.com/schemas/ArcGIS/10.4'&gt;&lt;WKT&gt;PROJCS[&amp;quot;NAD_1983_StatePlane_Alaska_3_FIPS_5003_Feet&amp;quot;,GEOGCS[&amp;quot;GCS_North_American_1983&amp;quot;,DATUM[&amp;quot;D_North_American_1983&amp;quot;,SPHEROID[&amp;quot;GRS_1980&amp;quot;,6378137.0,298.257222101]],PRIMEM[&amp;quot;Greenwich&amp;quot;,0.0],UNIT[&amp;quot;Degree&amp;quot;,0.0174532925199433]],PROJECTION[&amp;quot;Transverse_Mercator&amp;quot;],PARAMETER[&amp;quot;False_Easting&amp;quot;,1640416.666666667],PARAMETER[&amp;quot;False_Northing&amp;quot;,0.0],PARAMETER[&amp;quot;Central_Meridian&amp;quot;,-146.0],PARAMETER[&amp;quot;Scale_Factor&amp;quot;,0.9999],PARAMETER[&amp;quot;Latitude_Of_Origin&amp;quot;,54.0],UNIT[&amp;quot;Foot_US&amp;quot;,0.3048006096012192],AUTHORITY[&amp;quot;Esri&amp;quot;,102633]]&lt;/WKT&gt;&lt;XOrigin&gt;-16806300&lt;/XOrigin&gt;&lt;YOrigin&gt;-52448700&lt;/YOrigin&gt;&lt;XYScale&gt;137255069.87923574&lt;/XYScale&gt;&lt;ZOrigin&gt;-100000&lt;/ZOrigin&gt;&lt;ZScale&gt;10000&lt;/ZScale&gt;&lt;MOrigin&gt;-100000&lt;/MOrigin&gt;&lt;MScale&gt;10000&lt;/MScale&gt;&lt;XYTolerance&gt;0.0032808333333333331&lt;/XYTolerance&gt;&lt;ZTolerance&gt;0.001&lt;/ZTolerance&gt;&lt;MTolerance&gt;0.001&lt;/MTolerance&gt;&lt;HighPrecision&gt;true&lt;/HighPrecision&gt;&lt;WKID&gt;102633&lt;/WKID&gt;&lt;LatestWKID&gt;102633&lt;/LatestWKID&gt;&lt;/ProjectedCoordinateSystem&gt;</peXml>
</coordRef>
<RasterProperties>
<General>
<PixelDepth Sync="TRUE">32</PixelDepth>
<HasColormap Sync="TRUE">FALSE</HasColormap>
<CompressionType Sync="TRUE">RLE</CompressionType>
<NumBands Sync="TRUE">1</NumBands>
<Format Sync="TRUE">IMAGINE Image</Format>
<HasPyramids Sync="TRUE">TRUE</HasPyramids>
<SourceType Sync="TRUE">continuous</SourceType>
<PixelType Sync="TRUE">floating point</PixelType>
<NoDataValue Sync="TRUE">-3.4028235e+038</NoDataValue>
</General>
</RasterProperties>
<lineage>
<Process Date="20160722" Time="103944" ToolSource="c:\program files (x86)\arcgis\desktop10.1\ArcToolbox\Toolboxes\Data Management Tools.tbx\ProjectRaster">ProjectRaster W:\FNSB\GIS\GIS_Elevation_and_Rasters\Tanana_River_Salcha_Flood_Study_LiDAR_2016\Rasters\Hydro_Enforced_Bare_Earth\DEM_SalchaFloodStudy_2016_HydroEnforced_nad96.img W:\fnsb\GIS\GIS_Elevation_and_Rasters\Tanana_River_Salcha_Flood_Study_LiDAR_2016\Rasters\Hydro_Enforced_Bare_Earth\DEM_SalchaFloodStudy_2016_HydroEnforced.img PROJCS['NAD_1983_StatePlane_Alaska_3_FIPS_5003_Feet',GEOGCS['GCS_North_American_1983',DATUM['D_North_American_1983',SPHEROID['GRS_1980',6378137.0,298.257222101]],PRIMEM['Greenwich',0.0],UNIT['Degree',0.0174532925199433]],PROJECTION['Transverse_Mercator'],PARAMETER['False_Easting',1640416.666666667],PARAMETER['False_Northing',0.0],PARAMETER['Central_Meridian',-146.0],PARAMETER['Scale_Factor',0.9999],PARAMETER['Latitude_Of_Origin',54.0],UNIT['Foot_US',0.3048006096012192]] NEAREST 3 'NAD_1983_CORS96_To_NAD_1983_2011 + New Geographic Transformation' # PROJCS['NAD_1983_CORS96_StatePlane_Alaska_3_FIPS_5003',GEOGCS['GCS_NAD_1983_CORS96',DATUM['D_NAD_1983_CORS96',SPHEROID['GRS_1980',6378137.0,298.257222101]],PRIMEM['Greenwich',0.0],UNIT['Degree',0.0174532925199433]],PROJECTION['Transverse_Mercator'],PARAMETER['False_Easting',1640416.666666667],PARAMETER['False_Northing',0.0],PARAMETER['Central_Meridian',-146.0],PARAMETER['Scale_Factor',0.9999],PARAMETER['Latitude_Of_Origin',54.0],UNIT['Foot_US',0.3048006096012192]]</Process>
</lineage>
<copyHistory>
<copy date="20170607" dest="\\fs01\workgrps\GIS\rasters\DEM_SalchaFloodStudy_2016_HydroEnforced.img" source="W:\FNSB\GIS\GIS_Elevation_and_Rasters\Tanana_River_Salcha_Flood_Study_LiDAR_2016\Rasters\Hydro_Enforced_Bare_Earth\DEM_SalchaFloodStudy_2016_HydroEnforced.img" time="14555500"/>
</copyHistory>
</DataProperties>
<SyncDate>20180319</SyncDate>
<SyncTime>13122900</SyncTime>
<ModDate>20180319</ModDate>
<ModTime>13122900</ModTime>
<scaleRange>
<minScale>150000000</minScale>
<maxScale>5000</maxScale>
</scaleRange>
</Esri>
<mdContact>
<rpOrgName>Quantum Spatial</rpOrgName>
<rpCntInfo>
<cntAddress addressType="both">
<delPoint>2014 Merrill Field Drive</delPoint>
<city>Anchorage</city>
<adminArea>AK</adminArea>
<postCode>99501</postCode>
<country>US</country>
</cntAddress>
<cntPhone>
<voiceNum>907-272-4495</voiceNum>
</cntPhone>
<cntOnlineRes>
<linkage>http://www.quantumspatial.com</linkage>
</cntOnlineRes>
</rpCntInfo>
<displayName>Quantum Spatial</displayName>
<role>
<RoleCd value="006"/>
</role>
<displayName>Quantum Spatial</displayName>
</mdContact>
<distInfo>
<distFormat>
<formatVer>1</formatVer>
<formatName Sync="TRUE">Raster Dataset</formatName>
</distFormat>
<distributor>
<distorCont>
<rpIndName>Nancy Durham</rpIndName>
<rpOrgName>Fairbanks North Star Borough</rpOrgName>
<role>
<RoleCd value="005"/>
</role>
<rpCntInfo>
<cntAddress addressType="postal">
<delPoint>809 Pioneer Road</delPoint>
<city>Fairbanks</city>
<adminArea>Alaska</adminArea>
<postCode>99701</postCode>
<eMailAdd>ndurham@fnsb.us</eMailAdd>
<country>US</country>
</cntAddress>
<cntPhone>
<voiceNum>907-459-1263</voiceNum>
</cntPhone>
</rpCntInfo>
</distorCont>
</distributor>
</distInfo>
<dataIdInfo>
<idCitation>
<presForm>
<fgdcGeoform>raster digital data</fgdcGeoform>
<PresFormCd Sync="TRUE" value="005"/>
</presForm>
<citRespParty>
<rpOrgName>Quantum Spatial</rpOrgName>
<rpCntInfo>
<cntAddress addressType="both">
<delPoint>2014 Merrill Field Drive</delPoint>
<city>Anchorage</city>
<adminArea>AK</adminArea>
<postCode>99501</postCode>
<country>US</country>
</cntAddress>
<cntPhone>
<voiceNum>907-272-4495</voiceNum>
</cntPhone>
<cntOnlineRes>
<linkage>http://www.quantumspatial.com</linkage>
</cntOnlineRes>
</rpCntInfo>
<displayName>Quantum Spatial</displayName>
<role>
<RoleCd value="006"/>
</role>
</citRespParty>
<date>
<pubDate>2016-07-01</pubDate>
</date>
<resTitle Sync="TRUE">Elevation_2016_DEM_Salcha_Flood_Study</resTitle>
</idCitation>
<dataExt>
<exDesc>Tanana River Floodplain Mapping LiDAR</exDesc>
<tempEle>
<TempExtent>
<exTemp>
<TM_Period>
<tmBegin>2016-04-30</tmBegin>
<tmEnd>2016-04-30</tmEnd>
</TM_Period>
</exTemp>
</TempExtent>
</tempEle>
<geoEle/>
</dataExt>
<idPurp>Provide high resolution terrain elevation data from the Tanana River Floodplain Mapping LiDAR dataset.</idPurp>
<idAbs>&lt;DIV STYLE="text-align:Left;"&gt;&lt;DIV&gt;&lt;DIV&gt;&lt;P&gt;&lt;SPAN&gt;The hydro-flattened and enforced bare earth digital elevation model (DEM) represents the earth's surface with all vegetation and human-made structures removed. It is derived from NIR LiDAR data using TIN processing of the ground point returns. All rivers greater than 30 meters in width and lakes at least 2 acres in size (and smaller as feasible) have been flattened to consistent elevations. Water boundary polygons were developed using an algorithm which weights LiDAR-derived slopes, intensities, and return densities to detect the water's edge. Elevation values were then assigned to the water's edge from the LiDAR data creating 3D breaklines enforced during model creation to flatten water bodies. Additionally, hydro-enforcement breaklines were created at all artificial obstructions to flow found in the ground model (i.e. culverts) to break the obstruction and allow flow to continue. Some elevation values have been interpolated across areas in the ground model where there is no elevation data (e.g. under dense vegetation). The horizontal datum for this dataset is NAD83 (CORS96), the vertical datum is NAVD88, Geoid 06, and the data is projected in Alaska State Plane Coordinate System Zone 3. Units are in U.S. Survey Feet. Quantum Spatial collected the Tanana River Floodplain Mapping LiDAR data for the Fairbanks North Star Borough on 04/30/2016.&lt;/SPAN&gt;&lt;/P&gt;&lt;/DIV&gt;&lt;/DIV&gt;&lt;/DIV&gt;</idAbs>
<idCredit>Fairbanks North Star Borough</idCredit>
<searchKeys>
<keyword>LiDAR</keyword>
<keyword>Light Detection and Ranging</keyword>
<keyword>elevation data</keyword>
<keyword>topography</keyword>
<keyword>bare earth</keyword>
<keyword>hydro-flattened</keyword>
<keyword>hydro-enforced</keyword>
<keyword>breaklines</keyword>
<keyword>DEM</keyword>
<keyword>digital elevation model</keyword>
<keyword>Fairbanks North Star Borough</keyword>
<keyword>Alaska</keyword>
<keyword>Floodplain</keyword>
<keyword>Mapping</keyword>
<keyword>LiDAR</keyword>
<keyword>DEM</keyword>
</searchKeys>
<themeKeys>
<keyword>LiDAR, Light Detection and Ranging, elevation data, topography, bare earth, hydro-flattened, hydro-enforced, breaklines, DEM, digital elevation model</keyword>
</themeKeys>
<placeKeys>
<keyword>Fairbanks North Star Borough</keyword>
<keyword>Alaska</keyword>
<keyword>Floodplain, Mapping, LiDAR, DEM</keyword>
</placeKeys>
<dataChar>
<CharSetCd value="004"/>
</dataChar>
<dataScale>
<scaleDist>
<value uom="ft_US">3</value>
</scaleDist>
</dataScale>
<suppInfo>This data is assembled by AOI and projected in Alaska State Plane Coordinate System Zone 3.</suppInfo>
<idStatus>
<ProgCd value="001"/>
</idStatus>
<idPoC>
<rpIndName>Nancy Durham</rpIndName>
<rpOrgName>Fairbanks North Star Borough</rpOrgName>
<rpCntInfo>
<cntAddress addressType="postal">
<delPoint>809 Pioneer Road</delPoint>
<city>Fairbanks</city>
<adminArea>Alaska</adminArea>
<postCode>99701</postCode>
<eMailAdd>ndurham@fnsb.us</eMailAdd>
<country>US</country>
</cntAddress>
<cntPhone>
<voiceNum>907-459-1263</voiceNum>
</cntPhone>
</rpCntInfo>
<displayName>Nancy Durham</displayName>
<role>
<RoleCd value="007"/>
</role>
</idPoC>
<resMaint>
<maintFreq>
<MaintFreqCd value="011"/>
</maintFreq>
</resMaint>
<resConst>
<LegConsts>
<useLimit>Please contact the Fairbanks North Star Borough for information regarding the use of this data.</useLimit>
</LegConsts>
<Consts>
<useLimit>&lt;DIV STYLE="text-align:Left;"&gt;&lt;DIV&gt;&lt;DIV&gt;&lt;P&gt;&lt;SPAN&gt;In some areas of heavy vegetation or forest cover, there may be relatively few ground points in the LiDAR data. TINing the points produces large triangles and hence the elevations may be less accurate within such areas. Elevation values for open water surfaces are derived from waters edge breaklines. Triangles were created across water surfaces by interpolating from the nearest breakline elevation points.&lt;/SPAN&gt;&lt;/P&gt;&lt;/DIV&gt;&lt;/DIV&gt;&lt;/DIV&gt;</useLimit>
</Consts>
</resConst>
<tpCat>
<TopicCatCd value="006"/>
</tpCat>
<envirDesc Sync="TRUE">Microsoft Windows 7 Version 6.1 (Build 7601) Service Pack 1; Esri ArcGIS 10.4.1.5686</envirDesc>
<dataLang>
<languageCode Sync="TRUE" value="eng"/>
<countryCode Sync="TRUE" value="USA"/>
</dataLang>
<spatRpType>
<SpatRepTypCd Sync="TRUE" value="002"/>
</spatRpType>
<dataExt>
<geoEle>
<GeoBndBox esriExtentType="search">
<exTypeCode Sync="TRUE">1</exTypeCode>
<westBL Sync="TRUE">-147.378923</westBL>
<eastBL Sync="TRUE">-147.049748</eastBL>
<northBL Sync="TRUE">64.725523</northBL>
<southBL Sync="TRUE">64.560094</southBL>
</GeoBndBox>
</geoEle>
</dataExt>
</dataIdInfo>
<mdMaint>
<maintFreq>
<MaintFreqCd value="011"/>
</maintFreq>
</mdMaint>
<dqInfo>
<report type="DQCompOm">
<measDesc>LiDAR data has been collected and processed for all areas within the project study area.</measDesc>
<evalMethDesc>Flight plans are designed with sufficient sidelap to ensure there are no gaps between flight lines. Shaded relief images have been visually inspected for gaps. </evalMethDesc>
</report>
<report type="DQConcConsis">
<measDesc>Shaded relief images have been visually inspected for data errors such as pits, border artifacts, and shifting. LiDAR flight lines have been examined to ensure consistent elevation values across overlapping flight lines. The Root Mean Square Error (RMSE) of line to line relative accuracy for this dataset is 0.049 ft (0.015 m). Please see the LiDAR data report for a discussion of the statistics related to this dataset.
</measDesc>
<evalMethDesc>Data was examined at a 1:2000 scale. Relative accuracy of the flight lines was assessed in Microstation using TerraMatch. </evalMethDesc>
<measResult>
<QuanResult>
<quanValType>RMSE</quanValType>
<quanValUnit>
<UOM>
<unitSymbol>ft_US</unitSymbol>
</UOM>
</quanValUnit>
<quanVal>0.049 ft (0.015 m)</quanVal>
</QuanResult>
</measResult>
</report>
<report dimension="vertical" type="DQAbsExtPosAcc">
<measDesc>The Non Vegetated Vertical Accuracy (NVA) of this dataset, tested at 95% confidence level is 0.295 ft (0.090 m). Please see the LiDAR data report for a discussion of the statistics related to this dataset.</measDesc>
<evalMethDesc>Non Vegetated Vertical Accuracy was assessed using 61 ground check points. These check points were not used in the calibration or post processing of the LiDAR point cloud data.</evalMethDesc>
<measResult>
<QuanResult>
<quanValType>NVA</quanValType>
<quanValUnit>
<UOM>
<unitSymbol>ft_US</unitSymbol>
</UOM>
</quanValUnit>
<quanVal>0.295 ft (0.090 m)</quanVal>
</QuanResult>
</measResult>
</report>
<dataLineage>
<prcStep>
<stepDesc>Acquisition. Quantum Spatial collected the Tanana River Floodplain Mapping LiDAR data on 04/30/2016. The survey used a Leica ALS80 laser system mounted in a Cessna Caravan. Data was collected using a dual pulse flight plan. Ground level GPS and aircraft IMU were collected during the flight. Leica ALS80 Instrument Parameters:
Beam diameter: 37.4 cm,
Pulse rate: 324.80 kHz,
Maximum returns: 4,
Speed: 145 knots,
Overlap: 60 %,
Laser power: 100 %,
Field of view (FOV): 32°,
Beam wavelength: 1064 nm,
Frequency of GPS sampling: 2 Hz,
Frequency of IMU sampling: 200 Hz,
Swath width: 977 m,
AGL: 1700 m,
Average pulse density: 2</stepDesc>
<stepDateTm>2016-04-30</stepDateTm>
</prcStep>
<prcStep>
<stepDesc>1. Flight lines and data were reviewed to ensure complete coverage of the study area and positional accuracy of the laser points. 2. Laser point return coordinates were computed using ALS Post Processor and IPAS TC software based on independent data from the LiDAR system, IMU, and aircraft. 3. The raw LiDAR file was assembled into flight lines per return with each point having an associated x, y, and z coordinate. 4. Visual inspection of swath to swath laser point consistencies within the study area were used to perform manual refinements of system alignment. 5. Custom algorithms were designed to evaluate points between adjacent flight lines. Automated system alignment was computed based upon randomly selected swath to swath accuracy measurements that consider elevation, slope, and intensities. Specifically, refinement in the combination of system pitch, roll and yaw offset parameters optimize internal consistency.
6. Noise (e.g., pits and birds) was filtered using ALS postprocessing software, based on known elevation ranges and included the removal of any cycle slips. 7. Using TerraScan and Microstation, ground classifications utilized custom settings appropriate to the study area. 8. The corrected and filtered return points were compared to the RTK ground survey points collected to verify the vertical accuracy. 9. TIN processing of the ground point returns with water's edge and hydro-enforcement breaklines enforced was used to create this hydro-flattened and enforced bare earth DEM. </stepDesc>
<stepDateTm>2016-07-01</stepDateTm>
</prcStep>
</dataLineage>
<dqScope>
<scpLvl>
<ScopeCd value="005"/>
</scpLvl>
</dqScope>
<report dimension="vertical" type="DQAbsExtPosAcc">
<measDesc>Vertical accuracy was also assessed using ground control points that were used in the calibration and post processing of the LiDAR point cloud as they still serve as a good indication of the overall accuracy of the LiDAR dataset. The Root Mean Square Error (RMSE) of the vertical accuracy of the LiDAR dataset as compared to ground control points is 0.094 ft (0.029 m). Please see the LiDAR data report for a discussion of the statistics related to this dataset.</measDesc>
<evalMethDesc>331 ground control points were collected and utilized in the calibration and post processing of the LiDAR data point cloud.</evalMethDesc>
<measResult>
<QuanResult>
<quanValType>RMSE</quanValType>
<quanVal>0.094 ft (0.029 m)</quanVal>
</QuanResult>
</measResult>
</report>
</dqInfo>
<spatRepInfo>
<Georect>
<axisDimension type="002">
<dimSize Sync="TRUE">16831</dimSize>
<dimResol>
<value Sync="TRUE" uom="ftUS">3.000000</value>
</dimResol>
</axisDimension>
<axisDimension type="001">
<dimSize Sync="TRUE">19850</dimSize>
<dimResol>
<value Sync="TRUE" uom="ftUS">3.000000</value>
</dimResol>
</axisDimension>
<cellGeo>
<CellGeoCd Sync="TRUE" value="002"/>
</cellGeo>
<numDims Sync="TRUE">2</numDims>
<tranParaAv Sync="TRUE">1</tranParaAv>
<chkPtAv Sync="TRUE">0</chkPtAv>
<cornerPts>
<pos Sync="TRUE">1424820.000122 3861444.000122</pos>
</cornerPts>
<cornerPts>
<pos Sync="TRUE">1424820.000122 3920994.000122</pos>
</cornerPts>
<cornerPts>
<pos Sync="TRUE">1475313.000122 3920994.000122</pos>
</cornerPts>
<cornerPts>
<pos Sync="TRUE">1475313.000122 3861444.000122</pos>
</cornerPts>
<centerPt>
<pos Sync="TRUE">1450066.500122 3891219.000122</pos>
</centerPt>
<ptInPixel>
<PixOrientCd Sync="TRUE" value="001"/>
</ptInPixel>
</Georect>
</spatRepInfo>
<contInfo>
<ImgDesc>
<covDim>
<Band>
<valUnit>
<UOM type="length">
<unitSymbol>ft_US</unitSymbol>
</UOM>
</valUnit>
<dimDescrp Sync="TRUE">Layer_1</dimDescrp>
<maxVal Sync="TRUE">671.049988</maxVal>
<minVal Sync="TRUE">500.320007</minVal>
<bitsPerVal Sync="TRUE">32</bitsPerVal>
</Band>
</covDim>
<attDesc>Digital Elevation Model</attDesc>
<trianInd>False</trianInd>
<radCalDatAv>False</radCalDatAv>
<camCalInAv>False</camCalInAv>
<filmDistInAv>False</filmDistInAv>
<lensDistInAv>False</lensDistInAv>
<contentTyp>
<ContentTypCd Sync="TRUE" value="001"/>
</contentTyp>
</ImgDesc>
</contInfo>
<mdLang>
<languageCode Sync="TRUE" value="eng"/>
<countryCode Sync="TRUE" value="USA"/>
</mdLang>
<mdHrLv>
<ScopeCd Sync="TRUE" value="005"/>
</mdHrLv>
<mdHrLvName Sync="TRUE">dataset</mdHrLvName>
<refSysInfo>
<RefSystem>
<refSysID>
<identCode Sync="TRUE" code="102633"/>
<idCodeSpace Sync="TRUE">Esri</idCodeSpace>
<idVersion Sync="TRUE">8.0.1</idVersion>
</refSysID>
</RefSystem>
</refSysInfo>
<mdDateSt Sync="TRUE">20180319</mdDateSt>
<mdChar>
<CharSetCd Sync="TRUE" value="004"/>
</mdChar>
</metadata>
